BEGIN:VCALENDAR
VERSION:2.0
PRODID:-//Piney Rail Riders - ECPv6.15.14//NONSGML v1.0//EN
CALSCALE:GREGORIAN
METHOD:PUBLISH
X-ORIGINAL-URL:https://pineyrailriders.org
X-WR-CALDESC:Events for Piney Rail Riders
REFRESH-INTERVAL;VALUE=DURATION:PT1H
X-Robots-Tag:noindex
X-PUBLISHED-TTL:PT1H
BEGIN:VTIMEZONE
TZID:America/New_York
BEGIN:DAYLIGHT
TZOFFSETFROM:-0500
TZOFFSETTO:-0400
TZNAME:EDT
DTSTART:20250309T070000
END:DAYLIGHT
BEGIN:STANDARD
TZOFFSETFROM:-0400
TZOFFSETTO:-0500
TZNAME:EST
DTSTART:20251102T060000
END:STANDARD
BEGIN:DAYLIGHT
TZOFFSETFROM:-0500
TZOFFSETTO:-0400
TZNAME:EDT
DTSTART:20260308T070000
END:DAYLIGHT
BEGIN:STANDARD
TZOFFSETFROM:-0400
TZOFFSETTO:-0500
TZNAME:EST
DTSTART:20261101T060000
END:STANDARD
BEGIN:DAYLIGHT
TZOFFSETFROM:-0500
TZOFFSETTO:-0400
TZNAME:EDT
DTSTART:20270314T070000
END:DAYLIGHT
BEGIN:STANDARD
TZOFFSETFROM:-0400
TZOFFSETTO:-0500
TZNAME:EST
DTSTART:20271107T060000
END:STANDARD
END:VTIMEZONE
BEGIN:VEVENT
DTSTART;TZID=America/New_York:20260815T080000
DTEND;TZID=America/New_York:20260815T170000
DTSTAMP:20260423T100337
CREATED:20251220T200020Z
LAST-MODIFIED:20251220T200024Z
UID:2954-1786780800-1786813200@pineyrailriders.org
SUMMARY:Maintenance Day
DESCRIPTION:
URL:https://pineyrailriders.org/event/maintenance-day-3/
LOCATION:Limestone Trailhead\, Limestone Road\, Fairmount City\, PA\, 16224\, United States
CATEGORIES:Maintenance
END:VEVENT
BEGIN:VEVENT
DTSTART;TZID=America/New_York:20260820T190000
DTEND;TZID=America/New_York:20260820T200000
DTSTAMP:20260423T100337
CREATED:20251220T195955Z
LAST-MODIFIED:20251220T195959Z
UID:2916-1787252400-1787256000@pineyrailriders.org
SUMMARY:Monthly Meeting
DESCRIPTION:
URL:https://pineyrailriders.org/event/monthly-meeting-4/
LOCATION:Clarion Eagles\, 81 Stone House Rd\, Clarion\, PA\, 16214\, United States
CATEGORIES:Meetings
END:VEVENT
BEGIN:VEVENT
DTSTART;TZID=America/New_York:20260829T080000
DTEND;TZID=America/New_York:20260829T170000
DTSTAMP:20260423T100337
CREATED:20251220T195937Z
LAST-MODIFIED:20251220T195941Z
UID:2956-1787990400-1788022800@pineyrailriders.org
SUMMARY:Templeton Poker Run
DESCRIPTION:
URL:https://pineyrailriders.org/event/templeton-poker-run/
LOCATION:Templeton\, Templeton\, United States
CATEGORIES:Community Event
END:VEVENT
END:VCALENDAR