BEGIN:VCALENDAR
VERSION:2.0
PRODID:-//Piney Rail Riders - ECPv6.15.14//NONSGML v1.0//EN
CALSCALE:GREGORIAN
METHOD:PUBLISH
X-WR-CALNAME:Piney Rail Riders
X-ORIGINAL-URL:https://pineyrailriders.org
X-WR-CALDESC:Events for Piney Rail Riders
REFRESH-INTERVAL;VALUE=DURATION:PT1H
X-Robots-Tag:noindex
X-PUBLISHED-TTL:PT1H
BEGIN:VTIMEZONE
TZID:America/New_York
BEGIN:DAYLIGHT
TZOFFSETFROM:-0500
TZOFFSETTO:-0400
TZNAME:EDT
DTSTART:20250309T070000
END:DAYLIGHT
BEGIN:STANDARD
TZOFFSETFROM:-0400
TZOFFSETTO:-0500
TZNAME:EST
DTSTART:20251102T060000
END:STANDARD
BEGIN:DAYLIGHT
TZOFFSETFROM:-0500
TZOFFSETTO:-0400
TZNAME:EDT
DTSTART:20260308T070000
END:DAYLIGHT
BEGIN:STANDARD
TZOFFSETFROM:-0400
TZOFFSETTO:-0500
TZNAME:EST
DTSTART:20261101T060000
END:STANDARD
BEGIN:DAYLIGHT
TZOFFSETFROM:-0500
TZOFFSETTO:-0400
TZNAME:EDT
DTSTART:20270314T070000
END:DAYLIGHT
BEGIN:STANDARD
TZOFFSETFROM:-0400
TZOFFSETTO:-0500
TZNAME:EST
DTSTART:20271107T060000
END:STANDARD
END:VTIMEZONE
BEGIN:VEVENT
DTSTART;TZID=America/New_York:20260907T080000
DTEND;TZID=America/New_York:20260907T170000
DTSTAMP:20260423T115355
CREATED:20251220T195921Z
LAST-MODIFIED:20251220T195924Z
UID:2958-1788768000-1788800400@pineyrailriders.org
SUMMARY:Summerville Labor Day Parade
DESCRIPTION:
URL:https://pineyrailriders.org/event/summerville-labor-day-parade/
LOCATION:Summerville\, Summerville\, United States
CATEGORIES:Community Event
END:VEVENT
BEGIN:VEVENT
DTSTART;TZID=America/New_York:20260912T080000
DTEND;TZID=America/New_York:20260912T170000
DTSTAMP:20260423T115355
CREATED:20251220T195900Z
LAST-MODIFIED:20251220T195904Z
UID:2960-1789200000-1789232400@pineyrailriders.org
SUMMARY:Redbank Poker Run
DESCRIPTION:
URL:https://pineyrailriders.org/event/redbank-poker-run/
LOCATION:Redbank Valley Municipal Park\, 137 Park Rd\, Fairmount City\, 16224\, United States
CATEGORIES:Community Event
END:VEVENT
BEGIN:VEVENT
DTSTART;TZID=America/New_York:20260917T190000
DTEND;TZID=America/New_York:20260917T200000
DTSTAMP:20260423T115355
CREATED:20251220T195840Z
LAST-MODIFIED:20251220T195845Z
UID:2918-1789671600-1789675200@pineyrailriders.org
SUMMARY:Monthly Meeting
DESCRIPTION:
URL:https://pineyrailriders.org/event/monthly-meeting-3/
LOCATION:Clarion Eagles\, 81 Stone House Rd\, Clarion\, PA\, 16214\, United States
CATEGORIES:Meetings
END:VEVENT
BEGIN:VEVENT
DTSTART;TZID=America/New_York:20260919T080000
DTEND;TZID=America/New_York:20260919T170000
DTSTAMP:20260423T115355
CREATED:20251220T195825Z
LAST-MODIFIED:20251220T195829Z
UID:2962-1789804800-1789837200@pineyrailriders.org
SUMMARY:Maintenance Day
DESCRIPTION:
URL:https://pineyrailriders.org/event/maintenance-day-2/
LOCATION:Limestone Trailhead\, Limestone Road\, Fairmount City\, PA\, 16224\, United States
CATEGORIES:Maintenance
END:VEVENT
END:VCALENDAR